BEGIN:VCALENDAR
VERSION:2.0
PRODID:-//ChamberMaster//Event Calendar 2.0//EN
METHOD:PUBLISH
X-PUBLISHED-TTL:P3D
REFRESH-INTERVAL:P3D
CALSCALE:GREGORIAN
BEGIN:VEVENT
DTSTART:20050106T170000Z
DTEND:20050106T230000Z
X-MICROSOFT-CDO-ALLDAYEVENT:FALSE
SUMMARY:2005 Installation Banquet
DESCRIPTION:Installation of the 2005 Board of Directors and Your 2005 President.
X-ALT-DESC;FMTTYPE=text/html:Installation of the 2005 Board of Directors and Your 2005 President.
LOCATION:Lancaster Host Resort & Conference Center 2300 Lincoln Highway East Lancaster\, PA 17602
UID:e.9294.104
SEQUENCE:3
DTSTAMP:20260424T220450Z
URL:https://members.lancasterbuilders.org/events/details/2005-installation-banquet-01-06-2005-104
END:VEVENT

END:VCALENDAR
