BEGIN:VCALENDAR
VERSION:2.0
PRODID:-//ChamberMaster//Event Calendar 2.0//EN
METHOD:PUBLISH
X-PUBLISHED-TTL:P3D
REFRESH-INTERVAL:P3D
CALSCALE:GREGORIAN
BEGIN:VEVENT
DTSTART;VALUE=DATE:20050914
DTEND;VALUE=DATE:20050915
TRANSP:TRANSPARENT
X-MICROSOFT-CDO-ALLDAYEVENT:TRUE
SUMMARY:Annual Membership Picnic - 09/14/2005
DESCRIPTION:Fun event\, no program. Just fun and lots of food. Nail driving contest will be held.
X-ALT-DESC;FMTTYPE=text/html:Fun event\, no program. Just fun and lots of food. Nail driving contest will be held.
LOCATION:Lancaster Liederkranz 722 South Chiques Road Manheim\, PA 17545
UID:e.9294.196
SEQUENCE:3
DTSTAMP:20260424T092235Z
URL:https://members.lancasterbuilders.org/events/details/annual-membership-picnic-09-14-2005-09-14-2005-196
END:VEVENT

END:VCALENDAR
