BEGIN:VCALENDAR
VERSION:2.0
PRODID:-//ChamberMaster//Event Calendar 2.0//EN
METHOD:PUBLISH
X-PUBLISHED-TTL:P3D
REFRESH-INTERVAL:P3D
CALSCALE:GREGORIAN
BEGIN:VEVENT
DTSTART:20050805T220000Z
DTEND:20050805T160000Z
X-MICROSOFT-CDO-ALLDAYEVENT:FALSE
SUMMARY:August Government Affairs Meeting
DESCRIPTION:
X-ALT-DESC;FMTTYPE=text/html:
LOCATION:BIA 1794 Oregon Pike Lancaster\, PA 17601
UID:e.9294.181
SEQUENCE:3
DTSTAMP:20260424T110700Z
URL:https://members.lancasterbuilders.org/events/details/august-government-affairs-meeting-08-05-2005-181
END:VEVENT

END:VCALENDAR
