BEGIN:VCALENDAR
VERSION:2.0
PRODID:-//ChamberMaster//Event Calendar 2.0//EN
METHOD:PUBLISH
X-PUBLISHED-TTL:P3D
REFRESH-INTERVAL:P3D
CALSCALE:GREGORIAN
BEGIN:VEVENT
DTSTART:20051011T160000Z
DTEND:20051011T220000Z
X-MICROSOFT-CDO-ALLDAYEVENT:FALSE
SUMMARY:Basic Medic First Aid & CPR
DESCRIPTION:
X-ALT-DESC;FMTTYPE=text/html:
LOCATION:ABC Keystone Chapter 135 Shellyland Road Manheim\, PA 17545
UID:e.9294.208
SEQUENCE:3
DTSTAMP:20260424T074538Z
URL:https://members.lancasterbuilders.org/events/details/basic-medic-first-aid-cpr-10-11-2005-208
END:VEVENT

END:VCALENDAR
