BEGIN:VCALENDAR
VERSION:2.0
PRODID:-//ChamberMaster//Event Calendar 2.0//EN
METHOD:PUBLISH
X-PUBLISHED-TTL:P3D
REFRESH-INTERVAL:P3D
CALSCALE:GREGORIAN
BEGIN:VEVENT
DTSTART;VALUE=DATE:20040505
DTEND;VALUE=DATE:20040506
TRANSP:TRANSPARENT
X-MICROSOFT-CDO-ALLDAYEVENT:TRUE
SUMMARY:Better Building Practices Seminar
DESCRIPTION:The BIA and Eastern Distributors Company\, Inc. welcome national expert Steve Easley back to Central PA. Easley will present his popular seminars Reducing Mold & Moisture: Better Design & Building Practices and Cure for the Common Callback.
X-ALT-DESC;FMTTYPE=text/html:The BIA and Eastern Distributors Company\, Inc. welcome national expert Steve Easley back to Central PA. Easley will present his popular seminars Reducing Mold & Moisture: Better Design & Building Practices and Cure for the Common Callback.
LOCATION:Hershey Golf Club 1000 East Derry Rd Hershey\, PA 17033
UID:e.9294.31
SEQUENCE:3
DTSTAMP:20260425T104336Z
URL:https://members.lancasterbuilders.org/events/details/better-building-practices-seminar-05-05-2004-31
END:VEVENT

END:VCALENDAR
