BEGIN:VCALENDAR
VERSION:2.0
PRODID:-//ChamberMaster//Event Calendar 2.0//EN
METHOD:PUBLISH
X-PUBLISHED-TTL:P3D
REFRESH-INTERVAL:P3D
CALSCALE:GREGORIAN
BEGIN:VEVENT
DTSTART;VALUE=DATE:20050602
DTEND;VALUE=DATE:20050603
TRANSP:TRANSPARENT
X-MICROSOFT-CDO-ALLDAYEVENT:TRUE
SUMMARY:BIA Legislative Breakfast
DESCRIPTION:The BIA will host the Lancaster County state deligation on June 2 from 8:00 am until 10:00 am at the annual legislative breakfast.
X-ALT-DESC;FMTTYPE=text/html:The BIA will host the Lancaster County state deligation on June 2 from 8:00 am until 10:00 am at the annual legislative breakfast.
LOCATION:Lancaster Country Club 1466 New Holland Pike Lancaster\, PA 17601
UID:e.9294.161
SEQUENCE:3
DTSTAMP:20260424T141529Z
URL:https://members.lancasterbuilders.org/events/details/bia-legislative-breakfast-06-02-2005-161
END:VEVENT

END:VCALENDAR
