BEGIN:VCALENDAR
VERSION:2.0
PRODID:-//ChamberMaster//Event Calendar 2.0//EN
METHOD:PUBLISH
X-PUBLISHED-TTL:P3D
REFRESH-INTERVAL:P3D
CALSCALE:GREGORIAN
BEGIN:VEVENT
DTSTART:20041208T230000Z
DTEND:20041208T170000Z
X-MICROSOFT-CDO-ALLDAYEVENT:FALSE
SUMMARY:BIA Member Orientation
DESCRIPTION:Meet some of the names behind the BIA and hear some great ways to get the most from your membership.
X-ALT-DESC;FMTTYPE=text/html:Meet some of the names behind the BIA and hear some great ways to get the most from your membership.
LOCATION:1794 Oregon Pike Lancaster\, PA 17601
UID:e.9294.96
SEQUENCE:3
DTSTAMP:20260424T232654Z
URL:https://members.lancasterbuilders.org/events/details/bia-member-orientation-12-08-2004-96
END:VEVENT

END:VCALENDAR
