BEGIN:VCALENDAR
VERSION:2.0
PRODID:-//ChamberMaster//Event Calendar 2.0//EN
METHOD:PUBLISH
X-PUBLISHED-TTL:P3D
REFRESH-INTERVAL:P3D
CALSCALE:GREGORIAN
BEGIN:VEVENT
DTSTART:20050520T220000Z
DTEND:20050520T160000Z
X-MICROSOFT-CDO-ALLDAYEVENT:FALSE
SUMMARY:BIA Night at the Ballpark
DESCRIPTION:BIA members to attend a Lancaster Barnstormer's game at the new Clipper Magazine Stadium
X-ALT-DESC;FMTTYPE=text/html:BIA members to attend a Lancaster Barnstormer's game at the new Clipper Magazine Stadium
LOCATION:
UID:e.9294.158
SEQUENCE:3
DTSTAMP:20260424T155534Z
URL:https://members.lancasterbuilders.org/events/details/bia-night-at-the-ballpark-05-20-2005-158
END:VEVENT

END:VCALENDAR
