BEGIN:VCALENDAR
VERSION:2.0
PRODID:-//ChamberMaster//Event Calendar 2.0//EN
METHOD:PUBLISH
X-PUBLISHED-TTL:P3D
REFRESH-INTERVAL:P3D
CALSCALE:GREGORIAN
BEGIN:VEVENT
DTSTART;VALUE=DATE:20041028
DTEND;VALUE=DATE:20041029
TRANSP:TRANSPARENT
X-MICROSOFT-CDO-ALLDAYEVENT:TRUE
SUMMARY:BIA State Legislative Breakfast
DESCRIPTION:Discuss housing issues with our elected officials. This events benefits BIAPAC
X-ALT-DESC;FMTTYPE=text/html:Discuss housing issues with our elected officials. This events benefits BIAPAC
LOCATION:Armstrong Manor 2025 Lititz Pike Lititz\, PA 17543
UID:e.9294.84
SEQUENCE:3
DTSTAMP:20260425T015129Z
URL:https://members.lancasterbuilders.org/events/details/bia-state-legislative-breakfast-10-28-2004-84
END:VEVENT

END:VCALENDAR
