BEGIN:VCALENDAR
VERSION:2.0
PRODID:-//ChamberMaster//Event Calendar 2.0//EN
METHOD:PUBLISH
X-PUBLISHED-TTL:P3D
REFRESH-INTERVAL:P3D
CALSCALE:GREGORIAN
BEGIN:VEVENT
DTSTART;VALUE=DATE:20060406
DTEND;VALUE=DATE:20060407
TRANSP:TRANSPARENT
X-MICROSOFT-CDO-ALLDAYEVENT:TRUE
SUMMARY:BIAPAC Celebrity fundraiser
DESCRIPTION:The BIA's Political Action Committee will be having a special fundraiser event featuring Major League Baseball Hall-of-Fam member Brooks Robinson. Mr. Robinson will mingle\, sign autographs\, pose for photos and conduct a 10-15 minute anecdote session with our members over hors d-oeuvres.
X-ALT-DESC;FMTTYPE=text/html:The BIA's Political Action Committee will be having a special fundraiser event featuring Major League Baseball Hall-of-Fam member Brooks Robinson. Mr. Robinson will mingle\, sign autographs\, pose for photos and conduct a 10-15 minute anecdote session with our members over hors d-oeuvres.
LOCATION:Clipper Magazine Stadium Prince Street Lancaster\, PA 17603
UID:e.9294.262
SEQUENCE:3
DTSTAMP:20260423T235029Z
URL:https://members.lancasterbuilders.org/events/details/biapac-celebrity-fundraiser-04-06-2006-262
END:VEVENT

END:VCALENDAR
