BEGIN:VCALENDAR
VERSION:2.0
PRODID:-//ChamberMaster//Event Calendar 2.0//EN
METHOD:PUBLISH
X-PUBLISHED-TTL:P3D
REFRESH-INTERVAL:P3D
CALSCALE:GREGORIAN
BEGIN:VEVENT
DTSTART;VALUE=DATE:20040923
DTEND;VALUE=DATE:20040924
TRANSP:TRANSPARENT
X-MICROSOFT-CDO-ALLDAYEVENT:TRUE
SUMMARY:BIAPAC Fall Reception
DESCRIPTION:BIAPAC is hosting Lancaster county's elected officials for our annual fall reception. Hosted by Rich Hurst at his residence.
X-ALT-DESC;FMTTYPE=text/html:BIAPAC is hosting Lancaster county's elected officials for our annual fall reception. Hosted by Rich Hurst at his residence.
LOCATION:154 East Farmersville Road Ephrata\, PA 17522
UID:e.9294.72
SEQUENCE:3
DTSTAMP:20260425T030621Z
URL:https://members.lancasterbuilders.org/events/details/biapac-fall-reception-09-23-2004-72
END:VEVENT

END:VCALENDAR
