BEGIN:VCALENDAR
VERSION:2.0
PRODID:-//ChamberMaster//Event Calendar 2.0//EN
METHOD:PUBLISH
X-PUBLISHED-TTL:P3D
REFRESH-INTERVAL:P3D
CALSCALE:GREGORIAN
BEGIN:VEVENT
DTSTART;VALUE=DATE:20041214
DTEND;VALUE=DATE:20041215
TRANSP:TRANSPARENT
X-MICROSOFT-CDO-ALLDAYEVENT:TRUE
SUMMARY:Economic Forecast - 12/14/2004
DESCRIPTION:David F. Seiders\, Chief Economist and Senior Vice President at the National Association of Home Builders is the speaker.
X-ALT-DESC;FMTTYPE=text/html:David F. Seiders\, Chief Economist and Senior Vice President at the National Association of Home Builders is the speaker.
LOCATION:Doneckers 333 N. State Street Ephrata\, PA 17522
UID:e.9294.100
SEQUENCE:3
DTSTAMP:20260424T232612Z
URL:https://members.lancasterbuilders.org/events/details/economic-forecast-12-14-2004-12-14-2004-100
END:VEVENT

END:VCALENDAR
