BEGIN:VCALENDAR
VERSION:2.0
PRODID:-//ChamberMaster//Event Calendar 2.0//EN
METHOD:PUBLISH
X-PUBLISHED-TTL:P3D
REFRESH-INTERVAL:P3D
CALSCALE:GREGORIAN
BEGIN:VEVENT
DTSTART:20060517T220000Z
DTEND:20060517T160000Z
X-MICROSOFT-CDO-ALLDAYEVENT:FALSE
SUMMARY:Executive Committee Meeting - 05/17/2006
DESCRIPTION:
X-ALT-DESC;FMTTYPE=text/html:
LOCATION:BIA Office 1794 Oregon Pike Lancaster\, PA 17601
UID:e.9294.284
SEQUENCE:3
DTSTAMP:20260423T222256Z
URL:https://members.lancasterbuilders.org/events/details/executive-committee-meeting-05-17-2006-05-17-2006-284
END:VEVENT

END:VCALENDAR
