BEGIN:VCALENDAR
VERSION:2.0
PRODID:-//ChamberMaster//Event Calendar 2.0//EN
METHOD:PUBLISH
X-PUBLISHED-TTL:P3D
REFRESH-INTERVAL:P3D
CALSCALE:GREGORIAN
BEGIN:VEVENT
DTSTART:20060512T220000Z
DTEND:20060512T160000Z
X-MICROSOFT-CDO-ALLDAYEVENT:FALSE
SUMMARY:Family Night at the Ballpark
DESCRIPTION:Lancaster Barnstormers vs. Camden Riversharks 5:30 p.m. - Gates open 7:00 p.m. - game time
X-ALT-DESC;FMTTYPE=text/html:Lancaster Barnstormers vs. Camden Riversharks 5:30 p.m. - Gates open 7:00 p.m. - game time
LOCATION:Clipper Magazine Stadium 650 North Prince Street Lancaster\, PA 17603
UID:e.9294.281
SEQUENCE:3
DTSTAMP:20260423T222434Z
URL:https://members.lancasterbuilders.org/events/details/family-night-at-the-ballpark-05-12-2006-281
END:VEVENT

END:VCALENDAR
