BEGIN:VCALENDAR
VERSION:2.0
PRODID:-//ChamberMaster//Event Calendar 2.0//EN
METHOD:PUBLISH
X-PUBLISHED-TTL:P3D
REFRESH-INTERVAL:P3D
CALSCALE:GREGORIAN
BEGIN:VEVENT
DTSTART:20051102T170000Z
DTEND:20051102T230000Z
X-MICROSOFT-CDO-ALLDAYEVENT:FALSE
SUMMARY:Field Engineering Course
DESCRIPTION:
X-ALT-DESC;FMTTYPE=text/html:
LOCATION:ABC Keystone Chapter 135 Shellyland Road Manheim\, PA 17545
UID:e.9294.215
SEQUENCE:3
DTSTAMP:20260424T062608Z
URL:https://members.lancasterbuilders.org/events/details/field-engineering-course-11-02-2005-215
END:VEVENT

END:VCALENDAR
