BEGIN:VCALENDAR
VERSION:2.0
PRODID:-//ChamberMaster//Event Calendar 2.0//EN
METHOD:PUBLISH
X-PUBLISHED-TTL:P3D
REFRESH-INTERVAL:P3D
CALSCALE:GREGORIAN
BEGIN:VEVENT
DTSTART;VALUE=DATE:20050828
DTEND;VALUE=DATE:20050829
TRANSP:TRANSPARENT
X-MICROSOFT-CDO-ALLDAYEVENT:TRUE
SUMMARY:Foundation Motorcycle Rally
DESCRIPTION:Motorcycle ride to raise money for the Foundation for scholarships.
X-ALT-DESC;FMTTYPE=text/html:Motorcycle ride to raise money for the Foundation for scholarships.
LOCATION:Lancaster County Career & Technology Center Snyder & Metzler Roads Brownstown\, PA 17508
UID:e.9294.189
SEQUENCE:3
DTSTAMP:20260424T111108Z
URL:https://members.lancasterbuilders.org/events/details/foundation-motorcycle-rally-08-28-2005-189
END:VEVENT

END:VCALENDAR
