BEGIN:VCALENDAR
VERSION:2.0
PRODID:-//ChamberMaster//Event Calendar 2.0//EN
METHOD:PUBLISH
X-PUBLISHED-TTL:P3D
REFRESH-INTERVAL:P3D
CALSCALE:GREGORIAN
BEGIN:VEVENT
DTSTART:20060413T220000Z
DTEND:20060413T160000Z
X-MICROSOFT-CDO-ALLDAYEVENT:FALSE
SUMMARY:Foundation Reverse Raffle - 04/13/2006
DESCRIPTION:Last number drawn wins - $5\,000! Only 200 tickets will be sold for this event.
X-ALT-DESC;FMTTYPE=text/html:Last number drawn wins - $5\,000! Only 200 tickets will be sold for this event.
LOCATION:Historic Revere Tavern 3063 Lincoln Highway East Paradise\, PA 17562
UID:e.9294.269
SEQUENCE:3
DTSTAMP:20260423T234921Z
URL:https://members.lancasterbuilders.org/events/details/foundation-reverse-raffle-04-13-2006-04-13-2006-269
END:VEVENT

END:VCALENDAR
