BEGIN:VCALENDAR
VERSION:2.0
PRODID:-//ChamberMaster//Event Calendar 2.0//EN
METHOD:PUBLISH
X-PUBLISHED-TTL:P3D
REFRESH-INTERVAL:P3D
CALSCALE:GREGORIAN
BEGIN:VEVENT
DTSTART:20050428T220000Z
DTEND:20050428T160000Z
X-MICROSOFT-CDO-ALLDAYEVENT:FALSE
SUMMARY:Foundation Reverse Raffle - 04/28/2005
DESCRIPTION:
X-ALT-DESC;FMTTYPE=text/html:
LOCATION:Historic Revere Tavern 3063 Lincoln Highway Paradise\, PA 17562
UID:e.9294.146
SEQUENCE:3
DTSTAMP:20260424T174043Z
URL:https://members.lancasterbuilders.org/events/details/foundation-reverse-raffle-04-28-2005-04-28-2005-146
END:VEVENT

END:VCALENDAR
