BEGIN:VCALENDAR
VERSION:2.0
PRODID:-//ChamberMaster//Event Calendar 2.0//EN
METHOD:PUBLISH
X-PUBLISHED-TTL:P3D
REFRESH-INTERVAL:P3D
CALSCALE:GREGORIAN
BEGIN:VEVENT
DTSTART;VALUE=DATE:20061019
DTEND;VALUE=DATE:20061020
TRANSP:TRANSPARENT
X-MICROSOFT-CDO-ALLDAYEVENT:TRUE
SUMMARY:Foundation Silent/Live Auction - 10/19/2006
DESCRIPTION:
X-ALT-DESC;FMTTYPE=text/html:
LOCATION:Conestoga Country Club 1950 Stone Mill Road Lancaster\, PA 17604
UID:e.9294.331
SEQUENCE:3
DTSTAMP:20260423T164028Z
URL:https://members.lancasterbuilders.org/events/details/foundation-silent-live-auction-10-19-2006-10-19-2006-331
END:VEVENT

END:VCALENDAR
