BEGIN:VCALENDAR
VERSION:2.0
PRODID:-//ChamberMaster//Event Calendar 2.0//EN
METHOD:PUBLISH
X-PUBLISHED-TTL:P3D
REFRESH-INTERVAL:P3D
CALSCALE:GREGORIAN
BEGIN:VEVENT
DTSTART:20051020T220000Z
DTEND:20051020T160000Z
X-MICROSOFT-CDO-ALLDAYEVENT:FALSE
SUMMARY:Foundation Silent/Live Auction - 10/20/2005
DESCRIPTION:Come out and enjoy a wondersful evening of bidding on those special items that you can use for Christmas presents.
X-ALT-DESC;FMTTYPE=text/html:Come out and enjoy a wondersful evening of bidding on those special items that you can use for Christmas presents.
LOCATION:Conestoga Country Club Lancaster\, PA 17603
UID:e.9294.212
SEQUENCE:3
DTSTAMP:20260424T074919Z
URL:https://members.lancasterbuilders.org/events/details/foundation-silent-live-auction-10-20-2005-10-20-2005-212
END:VEVENT

END:VCALENDAR
