BEGIN:VCALENDAR
VERSION:2.0
PRODID:-//ChamberMaster//Event Calendar 2.0//EN
METHOD:PUBLISH
X-PUBLISHED-TTL:P3D
REFRESH-INTERVAL:P3D
CALSCALE:GREGORIAN
BEGIN:VEVENT
DTSTART;VALUE=DATE:20041021
DTEND;VALUE=DATE:20041022
TRANSP:TRANSPARENT
X-MICROSOFT-CDO-ALLDAYEVENT:TRUE
SUMMARY:Foundation Silent/Live Auction - 10/21/2004
DESCRIPTION:COME DO YOUR CHRISTMAS SHOPPING at the 9th Annual Foundation Silent/Live Auction!
X-ALT-DESC;FMTTYPE=text/html:COME DO YOUR CHRISTMAS SHOPPING at the 9th Annual Foundation Silent/Live Auction!
LOCATION:Conestoga Country Club 1950 Stone Mill Road\, PO Box 4043 Lancaster\, PA 17604
UID:e.9294.83
SEQUENCE:3
DTSTAMP:20260425T021728Z
URL:https://members.lancasterbuilders.org/events/details/foundation-silent-live-auction-10-21-2004-10-21-2004-83
END:VEVENT

END:VCALENDAR
