BEGIN:VCALENDAR
VERSION:2.0
PRODID:-//ChamberMaster//Event Calendar 2.0//EN
METHOD:PUBLISH
X-PUBLISHED-TTL:P3D
REFRESH-INTERVAL:P3D
CALSCALE:GREGORIAN
BEGIN:VEVENT
DTSTART:20060629T220000Z
DTEND:20060629T160000Z
X-MICROSOFT-CDO-ALLDAYEVENT:FALSE
SUMMARY:Gov't Affairs County Commissioner Breakfast - 06/29/2006
DESCRIPTION:
X-ALT-DESC;FMTTYPE=text/html:
LOCATION:Armstrong Manor 2025 Lititz Pike Lancaster\, PA 17601
UID:e.9294.294
SEQUENCE:3
DTSTAMP:20260423T222359Z
URL:https://members.lancasterbuilders.org/events/details/gov-t-affairs-county-commissioner-breakfast-06-29-2006-06-29-2006-294
END:VEVENT

END:VCALENDAR
