BEGIN:VCALENDAR
VERSION:2.0
PRODID:-//ChamberMaster//Event Calendar 2.0//EN
METHOD:PUBLISH
X-PUBLISHED-TTL:P3D
REFRESH-INTERVAL:P3D
CALSCALE:GREGORIAN
BEGIN:VEVENT
DTSTART;VALUE=DATE:20070131
DTEND;VALUE=DATE:20070201
TRANSP:TRANSPARENT
X-MICROSOFT-CDO-ALLDAYEVENT:TRUE
SUMMARY:Home Interior Showcase Preview Party
DESCRIPTION:
X-ALT-DESC;FMTTYPE=text/html:
LOCATION:Eden Resort Inn 222 Eden Road Lancaster\, PA 17601
UID:e.9294.352
SEQUENCE:3
DTSTAMP:20260423T102124Z
URL:https://members.lancasterbuilders.org/events/details/home-interior-showcase-preview-party-01-31-2007-352
END:VEVENT

END:VCALENDAR
