BEGIN:VCALENDAR
VERSION:2.0
PRODID:-//ChamberMaster//Event Calendar 2.0//EN
METHOD:PUBLISH
X-PUBLISHED-TTL:P3D
REFRESH-INTERVAL:P3D
CALSCALE:GREGORIAN
BEGIN:VEVENT
DTSTART;VALUE=DATE:20050923
DTEND;VALUE=DATE:20050924
TRANSP:TRANSPARENT
X-MICROSOFT-CDO-ALLDAYEVENT:TRUE
SUMMARY:How to Win in Construction Sales
DESCRIPTION:
X-ALT-DESC;FMTTYPE=text/html:
LOCATION:ABC Keystone Chapter 135 Shellyland Road Manheim\, PA 17545
UID:e.9294.201
SEQUENCE:3
DTSTAMP:20260424T092046Z
URL:https://members.lancasterbuilders.org/events/details/how-to-win-in-construction-sales-09-23-2005-201
END:VEVENT

END:VCALENDAR
