BEGIN:VCALENDAR
VERSION:2.0
PRODID:-//ChamberMaster//Event Calendar 2.0//EN
METHOD:PUBLISH
X-PUBLISHED-TTL:P3D
REFRESH-INTERVAL:P3D
CALSCALE:GREGORIAN
BEGIN:VEVENT
DTSTART;VALUE=DATE:20060105
DTEND;VALUE=DATE:20060106
TRANSP:TRANSPARENT
X-MICROSOFT-CDO-ALLDAYEVENT:TRUE
SUMMARY:Installation Banquet - 01/05/2006
DESCRIPTION:Installation of the 2006 President\, Mike Garman\, Garman Builders\, Inc. and the officers and board of directors.
X-ALT-DESC;FMTTYPE=text/html:Installation of the 2006 President\, Mike Garman\, Garman Builders\, Inc. and the officers and board of directors.
LOCATION:Doneckers Ballroom 100 N. State Street Ephrata\, PA 17522
UID:e.9294.232
SEQUENCE:3
DTSTAMP:20260424T044838Z
URL:https://members.lancasterbuilders.org/events/details/installation-banquet-01-05-2006-01-05-2006-232
END:VEVENT

END:VCALENDAR
