BEGIN:VCALENDAR
VERSION:2.0
PRODID:-//ChamberMaster//Event Calendar 2.0//EN
METHOD:PUBLISH
X-PUBLISHED-TTL:P3D
REFRESH-INTERVAL:P3D
CALSCALE:GREGORIAN
BEGIN:VEVENT
DTSTART:20040108T230000Z
DTEND:20040108T170000Z
X-MICROSOFT-CDO-ALLDAYEVENT:FALSE
SUMMARY:Installation Banquet - 01/08/2004
DESCRIPTION:Installation of Officers for 2004
X-ALT-DESC;FMTTYPE=text/html:Installation of Officers for 2004
LOCATION:Lincoln Hwy Lancaster\, PA 17603
UID:e.9294.3
SEQUENCE:3
DTSTAMP:20260425T155210Z
URL:https://members.lancasterbuilders.org/events/details/installation-banquet-01-08-2004-01-08-2004-3
END:VEVENT

END:VCALENDAR
