BEGIN:VCALENDAR
VERSION:2.0
PRODID:-//ChamberMaster//Event Calendar 2.0//EN
METHOD:PUBLISH
X-PUBLISHED-TTL:P3D
REFRESH-INTERVAL:P3D
CALSCALE:GREGORIAN
BEGIN:VEVENT
DTSTART;VALUE=DATE:20070111
DTEND;VALUE=DATE:20070112
TRANSP:TRANSPARENT
X-MICROSOFT-CDO-ALLDAYEVENT:TRUE
SUMMARY:Installation Banquet - 01/11/2007
DESCRIPTION:
X-ALT-DESC;FMTTYPE=text/html:
LOCATION:Liberty Place 313 West Liberty Street Lancaster\, PA 17603
UID:e.9294.346
SEQUENCE:3
DTSTAMP:20260423T103256Z
URL:https://members.lancasterbuilders.org/events/details/installation-banquet-01-11-2007-01-11-2007-346
END:VEVENT

END:VCALENDAR
