BEGIN:VCALENDAR
VERSION:2.0
PRODID:-//ChamberMaster//Event Calendar 2.0//EN
METHOD:PUBLISH
X-PUBLISHED-TTL:P3D
REFRESH-INTERVAL:P3D
CALSCALE:GREGORIAN
BEGIN:VEVENT
DTSTART;VALUE=DATE:20050627
DTEND;VALUE=DATE:20050628
TRANSP:TRANSPARENT
X-MICROSOFT-CDO-ALLDAYEVENT:TRUE
SUMMARY:Manheim Township Code Meeting
DESCRIPTION:Discussion of Building Code w/ Township Code Officer
X-ALT-DESC;FMTTYPE=text/html:Discussion of Building Code w/ Township Code Officer
LOCATION:1840 Municpial Blvd. Lancaster\, PA 17601
UID:e.9294.171
SEQUENCE:3
DTSTAMP:20260424T140632Z
URL:https://members.lancasterbuilders.org/events/details/manheim-township-code-meeting-06-27-2005-171
END:VEVENT

END:VCALENDAR
