BEGIN:VCALENDAR
VERSION:2.0
PRODID:-//ChamberMaster//Event Calendar 2.0//EN
METHOD:PUBLISH
X-PUBLISHED-TTL:P3D
REFRESH-INTERVAL:P3D
CALSCALE:GREGORIAN
BEGIN:VEVENT
DTSTART;VALUE=DATE:20040421
DTEND;VALUE=DATE:20040422
TRANSP:TRANSPARENT
X-MICROSOFT-CDO-ALLDAYEVENT:TRUE
SUMMARY:March Board Meeting
DESCRIPTION:Monthly meeting of the Board of Directors
X-ALT-DESC;FMTTYPE=text/html:Monthly meeting of the Board of Directors
LOCATION:
UID:e.9294.28
SEQUENCE:3
DTSTAMP:20260425T110744Z
URL:https://members.lancasterbuilders.org/events/details/march-board-meeting-04-21-2004-28
END:VEVENT

END:VCALENDAR
