BEGIN:VCALENDAR
VERSION:2.0
PRODID:-//ChamberMaster//Event Calendar 2.0//EN
METHOD:PUBLISH
X-PUBLISHED-TTL:P3D
REFRESH-INTERVAL:P3D
CALSCALE:GREGORIAN
BEGIN:VEVENT
DTSTART:20061207T230000Z
DTEND:20061207T170000Z
X-MICROSOFT-CDO-ALLDAYEVENT:FALSE
SUMMARY:Member Exchange and Train 12/7/06
DESCRIPTION:Luncheon and lecture program
X-ALT-DESC;FMTTYPE=text/html:Luncheon and lecture program
LOCATION:
UID:e.9294.341
SEQUENCE:3
DTSTAMP:20260423T133109Z
URL:https://members.lancasterbuilders.org/events/details/member-exchange-and-train-12-7-06-12-07-2006-341
END:VEVENT

END:VCALENDAR
