BEGIN:VCALENDAR
VERSION:2.0
PRODID:-//ChamberMaster//Event Calendar 2.0//EN
METHOD:PUBLISH
X-PUBLISHED-TTL:P3D
REFRESH-INTERVAL:P3D
CALSCALE:GREGORIAN
BEGIN:VEVENT
DTSTART:20040415T220000Z
DTEND:20040415T160000Z
X-MICROSOFT-CDO-ALLDAYEVENT:FALSE
SUMMARY:Member Orientation - 04/15/2004
DESCRIPTION:This event gives a brief overview of the BIA and its benefits and services.
X-ALT-DESC;FMTTYPE=text/html:This event gives a brief overview of the BIA and its benefits and services.
LOCATION:Lancaster Host & Conference Center 2300 Lincoln Highway East Lancaster\, PA 17602
UID:e.9294.26
SEQUENCE:3
DTSTAMP:20260425T110047Z
URL:https://members.lancasterbuilders.org/events/details/member-orientation-04-15-2004-04-15-2004-26
END:VEVENT

END:VCALENDAR
