BEGIN:VCALENDAR
VERSION:2.0
PRODID:-//ChamberMaster//Event Calendar 2.0//EN
METHOD:PUBLISH
X-PUBLISHED-TTL:P3D
REFRESH-INTERVAL:P3D
CALSCALE:GREGORIAN
BEGIN:VEVENT
DTSTART:20050810T220000Z
DTEND:20050810T160000Z
X-MICROSOFT-CDO-ALLDAYEVENT:FALSE
SUMMARY:Member Orientation - 08/10/2005
DESCRIPTION:Meet some of the names behind the BIA and hear some great ways to get the most from your membership.
X-ALT-DESC;FMTTYPE=text/html:Meet some of the names behind the BIA and hear some great ways to get the most from your membership.
LOCATION:1794 Oregon Pike Lancaster\, PA 17601
UID:e.9294.183
SEQUENCE:3
DTSTAMP:20260424T122711Z
URL:https://members.lancasterbuilders.org/events/details/member-orientation-08-10-2005-08-10-2005-183
END:VEVENT

END:VCALENDAR
