BEGIN:VCALENDAR
VERSION:2.0
PRODID:-//ChamberMaster//Event Calendar 2.0//EN
METHOD:PUBLISH
X-PUBLISHED-TTL:P3D
REFRESH-INTERVAL:P3D
CALSCALE:GREGORIAN
BEGIN:VEVENT
DTSTART:20060516T220000Z
DTEND:20060516T160000Z
X-MICROSOFT-CDO-ALLDAYEVENT:FALSE
SUMMARY:Membership Meeting - 05/16/2006
DESCRIPTION:Eminent Domain: Is the Power to Condemn Property Unlimited? Speaker: Christina L. Hausner\, Russell\, Krafft & Gruber\, LLP
X-ALT-DESC;FMTTYPE=text/html:Eminent Domain: Is the Power to Condemn Property Unlimited? Speaker: Christina L. Hausner\, Russell\, Krafft & Gruber\, LLP
LOCATION:Holiday Inn Lancaster 521 Greenfiled Road Lancaster\, PA 17602
UID:e.9294.282
SEQUENCE:3
DTSTAMP:20260423T222301Z
URL:https://members.lancasterbuilders.org/events/details/membership-meeting-05-16-2006-05-16-2006-282
END:VEVENT

END:VCALENDAR
