BEGIN:VCALENDAR
VERSION:2.0
PRODID:-//ChamberMaster//Event Calendar 2.0//EN
METHOD:PUBLISH
X-PUBLISHED-TTL:P3D
REFRESH-INTERVAL:P3D
CALSCALE:GREGORIAN
BEGIN:VEVENT
DTSTART;VALUE=DATE:20041116
DTEND;VALUE=DATE:20041117
TRANSP:TRANSPARENT
X-MICROSOFT-CDO-ALLDAYEVENT:TRUE
SUMMARY:Membership Meeting/Election
DESCRIPTION:General Membership meeting and presentation of the candidates for Officer and Director.
X-ALT-DESC;FMTTYPE=text/html:General Membership meeting and presentation of the candidates for Officer and Director.
LOCATION:Lancaster Host Resort 2300 Lincoln Highway East Lancaster\, PA 17602
UID:e.9294.90
SEQUENCE:3
DTSTAMP:20260425T003616Z
URL:https://members.lancasterbuilders.org/events/details/membership-meeting-election-11-16-2004-90
END:VEVENT

END:VCALENDAR
