BEGIN:VCALENDAR
VERSION:2.0
PRODID:-//ChamberMaster//Event Calendar 2.0//EN
METHOD:PUBLISH
X-PUBLISHED-TTL:P3D
REFRESH-INTERVAL:P3D
CALSCALE:GREGORIAN
BEGIN:VEVENT
DTSTART:20060912T220000Z
DTEND:20060912T160000Z
X-MICROSOFT-CDO-ALLDAYEVENT:FALSE
SUMMARY:Membership Orientation
DESCRIPTION:Do you know all the benefits to BIA Membership?
X-ALT-DESC;FMTTYPE=text/html:Do you know all the benefits to BIA Membership?
LOCATION:Holiday Inn Rt. 30\, Greenfield Road Exit Lancaster\, PA 17601
UID:e.9294.317
SEQUENCE:3
DTSTAMP:20260423T163824Z
URL:https://members.lancasterbuilders.org/events/details/membership-orientation-09-12-2006-317
END:VEVENT

END:VCALENDAR
