BEGIN:VCALENDAR
VERSION:2.0
PRODID:-//ChamberMaster//Event Calendar 2.0//EN
METHOD:PUBLISH
X-PUBLISHED-TTL:P3D
REFRESH-INTERVAL:P3D
CALSCALE:GREGORIAN
BEGIN:VEVENT
DTSTART:20041020T220000Z
DTEND:20041020T160000Z
X-MICROSOFT-CDO-ALLDAYEVENT:FALSE
SUMMARY:October Executive/Board Meeting
DESCRIPTION:
X-ALT-DESC;FMTTYPE=text/html:
LOCATION:1794 Oregon Pike Lancaster\, PA 17601
UID:e.9294.82
SEQUENCE:3
DTSTAMP:20260425T015113Z
URL:https://members.lancasterbuilders.org/events/details/october-executive-board-meeting-10-20-2004-82
END:VEVENT

END:VCALENDAR
