BEGIN:VCALENDAR
VERSION:2.0
PRODID:-//ChamberMaster//Event Calendar 2.0//EN
METHOD:PUBLISH
X-PUBLISHED-TTL:P3D
REFRESH-INTERVAL:P3D
CALSCALE:GREGORIAN
BEGIN:VEVENT
DTSTART:20060617T160000Z
DTEND:20060625T160000Z
X-MICROSOFT-CDO-ALLDAYEVENT:FALSE
SUMMARY:Parade of Homes - 06/17/2006
DESCRIPTION:Hours weekdays 5 - 8 pm\; weekends 1 - 7 pm
X-ALT-DESC;FMTTYPE=text/html:Hours weekdays 5 - 8 pm\; weekends 1 - 7 pm
LOCATION:
UID:e.9294.289
SEQUENCE:3
DTSTAMP:20260423T222846Z
URL:https://members.lancasterbuilders.org/events/details/parade-of-homes-06-17-2006-06-17-2006-289
END:VEVENT

END:VCALENDAR
