BEGIN:VCALENDAR
VERSION:2.0
PRODID:-//ChamberMaster//Event Calendar 2.0//EN
METHOD:PUBLISH
X-PUBLISHED-TTL:P3D
REFRESH-INTERVAL:P3D
CALSCALE:GREGORIAN
BEGIN:VEVENT
DTSTART:20050618T160000Z
DTEND:20050626T160000Z
X-MICROSOFT-CDO-ALLDAYEVENT:FALSE
SUMMARY:Parade of Homes - 06/18/2005
DESCRIPTION:
X-ALT-DESC;FMTTYPE=text/html:
LOCATION:
UID:e.9294.169
SEQUENCE:3
DTSTAMP:20260424T141955Z
URL:https://members.lancasterbuilders.org/events/details/parade-of-homes-06-18-2005-06-18-2005-169
END:VEVENT

END:VCALENDAR
