BEGIN:VCALENDAR
VERSION:2.0
PRODID:-//ChamberMaster//Event Calendar 2.0//EN
METHOD:PUBLISH
X-PUBLISHED-TTL:P3D
REFRESH-INTERVAL:P3D
CALSCALE:GREGORIAN
BEGIN:VEVENT
DTSTART:20050224T230000Z
DTEND:20050224T170000Z
X-MICROSOFT-CDO-ALLDAYEVENT:FALSE
SUMMARY:Remodelers Council - 02/24/2005
DESCRIPTION:Latest Innovation in the Plumbing Industry & How to Sell Service\, Products and Your Company
X-ALT-DESC;FMTTYPE=text/html:Latest Innovation in the Plumbing Industry & How to Sell Service\, Products and Your Company
LOCATION:3140 Hempland Road Thos. Somerville Company Lancaster\, PA 17603
UID:e.9294.122
SEQUENCE:3
DTSTAMP:20260424T203845Z
URL:https://members.lancasterbuilders.org/events/details/remodelers-council-02-24-2005-02-24-2005-122
END:VEVENT

END:VCALENDAR
