BEGIN:VCALENDAR
VERSION:2.0
PRODID:-//ChamberMaster//Event Calendar 2.0//EN
METHOD:PUBLISH
X-PUBLISHED-TTL:P3D
REFRESH-INTERVAL:P3D
CALSCALE:GREGORIAN
BEGIN:VEVENT
DTSTART:20050519T220000Z
DTEND:20050519T160000Z
X-MICROSOFT-CDO-ALLDAYEVENT:FALSE
SUMMARY:Remodelers Council - 05/19/2005
DESCRIPTION:How to Sell Service\, Products and Your Company by Doug Riley.
X-ALT-DESC;FMTTYPE=text/html:How to Sell Service\, Products and Your Company by Doug Riley.
LOCATION:Thos. Somerville Company 3140 Hempland Road Lancaster\, PA 17603
UID:e.9294.157
SEQUENCE:3
DTSTAMP:20260424T154409Z
URL:https://members.lancasterbuilders.org/events/details/remodelers-council-05-19-2005-05-19-2005-157
END:VEVENT

END:VCALENDAR
