BEGIN:VCALENDAR
VERSION:2.0
PRODID:-//ChamberMaster//Event Calendar 2.0//EN
METHOD:PUBLISH
X-PUBLISHED-TTL:P3D
REFRESH-INTERVAL:P3D
CALSCALE:GREGORIAN
BEGIN:VEVENT
DTSTART:20080212T230000Z
DTEND:20080212T170000Z
X-MICROSOFT-CDO-ALLDAYEVENT:FALSE
SUMMARY:Remodelers Council Meeting - 02/12/2008
DESCRIPTION:
X-ALT-DESC;FMTTYPE=text/html:
LOCATION:Wickes Lumber 82 Garden Spot Road Ephrata\, PA 17522
UID:e.9294.457
SEQUENCE:3
DTSTAMP:20260420T135530Z
URL:https://members.lancasterbuilders.org/events/details/remodelers-council-meeting-02-12-2008-02-12-2008-457
END:VEVENT

END:VCALENDAR
