BEGIN:VCALENDAR
VERSION:2.0
PRODID:-//ChamberMaster//Event Calendar 2.0//EN
METHOD:PUBLISH
X-PUBLISHED-TTL:P3D
REFRESH-INTERVAL:P3D
CALSCALE:GREGORIAN
BEGIN:VEVENT
DTSTART:20040226T230000Z
DTEND:20040226T170000Z
X-MICROSOFT-CDO-ALLDAYEVENT:FALSE
SUMMARY:Remodelers Council Meeting - 02/26/2004
DESCRIPTION:Oil Heat Technology/New Age of Comfort & Design for the 21st Century
X-ALT-DESC;FMTTYPE=text/html:Oil Heat Technology/New Age of Comfort & Design for the 21st Century
LOCATION:Burnham Corporation 1245 Manheim Pike Lancaster\, PA 17601
UID:e.9294.15
SEQUENCE:3
DTSTAMP:20260425T135937Z
URL:https://members.lancasterbuilders.org/events/details/remodelers-council-meeting-02-26-2004-02-26-2004-15
END:VEVENT

END:VCALENDAR
