BEGIN:VCALENDAR
VERSION:2.0
PRODID:-//ChamberMaster//Event Calendar 2.0//EN
METHOD:PUBLISH
X-PUBLISHED-TTL:P3D
REFRESH-INTERVAL:P3D
CALSCALE:GREGORIAN
BEGIN:VEVENT
DTSTART:20041111T230000Z
DTEND:20041111T170000Z
X-MICROSOFT-CDO-ALLDAYEVENT:FALSE
SUMMARY:Remodelers Council Meeting - 11/11/2004
DESCRIPTION:Topics to be Discussed: Vinyl is Final Pick Your Palette Collecting The Final Payment
X-ALT-DESC;FMTTYPE=text/html:Topics to be Discussed: Vinyl is Final Pick Your Palette Collecting The Final Payment
LOCATION:J & L Building Materials\, Inc. 932 Links Avenue Landisville\, PA 17538
UID:e.9294.89
SEQUENCE:3
DTSTAMP:20260425T003852Z
URL:https://members.lancasterbuilders.org/events/details/remodelers-council-meeting-11-11-2004-11-11-2004-89
END:VEVENT

END:VCALENDAR
