BEGIN:VCALENDAR
VERSION:2.0
PRODID:-//ChamberMaster//Event Calendar 2.0//EN
METHOD:PUBLISH
X-PUBLISHED-TTL:P3D
REFRESH-INTERVAL:P3D
CALSCALE:GREGORIAN
BEGIN:VEVENT
DTSTART:20050920T220000Z
DTEND:20050920T160000Z
X-MICROSOFT-CDO-ALLDAYEVENT:FALSE
SUMMARY:Seminar - Basic Training for Foremen & Supervisors
DESCRIPTION:Participants learn about the communication process\, how to overcome barriers to communication and practice skills in giving and receiving instructions.
X-ALT-DESC;FMTTYPE=text/html:Participants learn about the communication process\, how to overcome barriers to communication and practice skills in giving and receiving instructions.
LOCATION:ABC Keystone Chapter 135 Shellyland Road Manheim\, PA 17545
UID:e.9294.198
SEQUENCE:3
DTSTAMP:20260424T091750Z
URL:https://members.lancasterbuilders.org/events/details/seminar-basic-training-for-foremen-supervisors-09-20-2005-198
END:VEVENT

END:VCALENDAR
