BEGIN:VCALENDAR
VERSION:2.0
PRODID:-//ChamberMaster//Event Calendar 2.0//EN
METHOD:PUBLISH
X-PUBLISHED-TTL:P3D
REFRESH-INTERVAL:P3D
CALSCALE:GREGORIAN
BEGIN:VEVENT
DTSTART:20060317T170000Z
DTEND:20060319T170000Z
X-MICROSOFT-CDO-ALLDAYEVENT:FALSE
SUMMARY:Spring Home Show - 03/17/2006
DESCRIPTION:
X-ALT-DESC;FMTTYPE=text/html:
LOCATION:Franklin & Marshall College 929 Harrisburg Pike Lancaster\, PA 17601
UID:e.9294.257
SEQUENCE:3
DTSTAMP:20260424T011036Z
URL:https://members.lancasterbuilders.org/events/details/spring-home-show-03-17-2006-03-17-2006-257
END:VEVENT

END:VCALENDAR
