BEGIN:VCALENDAR
VERSION:2.0
PRODID:-//ChamberMaster//Event Calendar 2.0//EN
METHOD:PUBLISH
X-PUBLISHED-TTL:P3D
REFRESH-INTERVAL:P3D
CALSCALE:GREGORIAN
BEGIN:VEVENT
DTSTART;VALUE=DATE:20041014
DTEND;VALUE=DATE:20041015
TRANSP:TRANSPARENT
X-MICROSOFT-CDO-ALLDAYEVENT:TRUE
SUMMARY:Staff/Leadership Retreat
DESCRIPTION:
X-ALT-DESC;FMTTYPE=text/html:
LOCATION:Armstrong Avenue 2500 Columbia Avenue Lancaster\, PA 17603
UID:e.9294.80
SEQUENCE:3
DTSTAMP:20260425T030908Z
URL:https://members.lancasterbuilders.org/events/details/staff-leadership-retreat-10-14-2004-80
END:VEVENT

END:VCALENDAR
