BEGIN:VCALENDAR
VERSION:2.0
PRODID:-//ChamberMaster//Event Calendar 2.0//EN
METHOD:PUBLISH
X-PUBLISHED-TTL:P3D
REFRESH-INTERVAL:P3D
CALSCALE:GREGORIAN
BEGIN:VEVENT
DTSTART;VALUE=DATE:20051007
DTEND;VALUE=DATE:20051008
TRANSP:TRANSPARENT
X-MICROSOFT-CDO-ALLDAYEVENT:TRUE
SUMMARY:The Politics of Building
DESCRIPTION:Free informational breakfast for all BIA members on national\, state and local legislative issues affecting the building industry.
X-ALT-DESC;FMTTYPE=text/html:Free informational breakfast for all BIA members on national\, state and local legislative issues affecting the building industry.
LOCATION:2025 Lititz Pike Armstrong Manor Lancaster\, PA 17601
UID:e.9294.206
SEQUENCE:3
DTSTAMP:20260424T074900Z
URL:https://members.lancasterbuilders.org/events/details/the-politics-of-building-10-07-2005-206
END:VEVENT

END:VCALENDAR
