BEGIN:VCALENDAR
VERSION:2.0
PRODID:-//ChamberMaster//Event Calendar 2.0//EN
METHOD:PUBLISH
X-PUBLISHED-TTL:P3D
REFRESH-INTERVAL:P3D
CALSCALE:GREGORIAN
BEGIN:VEVENT
DTSTART;VALUE=DATE:20061010
DTEND;VALUE=DATE:20061011
TRANSP:TRANSPARENT
X-MICROSOFT-CDO-ALLDAYEVENT:TRUE
SUMMARY:UCC Update Sponsored by the Remodelers Council
DESCRIPTION:Doug Meshaw\, PBA\, will be giving a 15-20 minutes update on the Uniform Construction Code and then will be holding a question and answer session. Bring your questions!
X-ALT-DESC;FMTTYPE=text/html:Doug Meshaw\, PBA\, will be giving a 15-20 minutes update on the Uniform Construction Code and then will be holding a question and answer session. Bring your questions!
LOCATION:Holiday Inn Lancaster Visitors Center 521 Greenfield Road Lancaster\, PA 17601
UID:e.9294.326
SEQUENCE:3
DTSTAMP:20260423T152122Z
URL:https://members.lancasterbuilders.org/events/details/ucc-update-sponsored-by-the-remodelers-council-10-10-2006-326
END:VEVENT

END:VCALENDAR
