BEGIN:VCALENDAR
VERSION:2.0
PRODID:-//ChamberMaster//Event Calendar 2.0//EN
METHOD:PUBLISH
X-PUBLISHED-TTL:P3D
REFRESH-INTERVAL:P3D
CALSCALE:GREGORIAN
BEGIN:VEVENT
DTSTART;VALUE=DATE:20040512
DTEND;VALUE=DATE:20040513
TRANSP:TRANSPARENT
X-MICROSOFT-CDO-ALLDAYEVENT:TRUE
SUMMARY:What Winners do to Win - Speaker Nicki Joy
DESCRIPTION:Special educational session\, Nicki presents info from her latest book. Learn about the opportunities the housing industry offers.
X-ALT-DESC;FMTTYPE=text/html:Special educational session\, Nicki presents info from her latest book. Learn about the opportunities the housing industry offers.
LOCATION:Lancaster Host Resort 2300 Lincoln Hwy. E Lampeter\, PA 17537
UID:e.9294.36
SEQUENCE:3
DTSTAMP:20260425T104647Z
URL:https://members.lancasterbuilders.org/events/details/what-winners-do-to-win-speaker-nicki-joy-05-12-2004-36
END:VEVENT

END:VCALENDAR
